BEGIN:VCALENDAR
VERSION:2.0
PRODID:-//Uplifted Care - ECPv6.15.20//NONSGML v1.0//EN
CALSCALE:GREGORIAN
METHOD:PUBLISH
X-WR-CALNAME:Uplifted Care
X-ORIGINAL-URL:https://upliftedcare.org
X-WR-CALDESC:Events for Uplifted Care
REFRESH-INTERVAL;VALUE=DURATION:PT1H
X-Robots-Tag:noindex
X-PUBLISHED-TTL:PT1H
BEGIN:VTIMEZONE
TZID:America/Chicago
BEGIN:DAYLIGHT
TZOFFSETFROM:-0600
TZOFFSETTO:-0500
TZNAME:CDT
DTSTART:20250309T080000
END:DAYLIGHT
BEGIN:STANDARD
TZOFFSETFROM:-0500
TZOFFSETTO:-0600
TZNAME:CST
DTSTART:20251102T070000
END:STANDARD
BEGIN:DAYLIGHT
TZOFFSETFROM:-0600
TZOFFSETTO:-0500
TZNAME:CDT
DTSTART:20260308T080000
END:DAYLIGHT
BEGIN:STANDARD
TZOFFSETFROM:-0500
TZOFFSETTO:-0600
TZNAME:CST
DTSTART:20261101T070000
END:STANDARD
BEGIN:DAYLIGHT
TZOFFSETFROM:-0600
TZOFFSETTO:-0500
TZNAME:CDT
DTSTART:20270314T080000
END:DAYLIGHT
BEGIN:STANDARD
TZOFFSETFROM:-0500
TZOFFSETTO:-0600
TZNAME:CST
DTSTART:20271107T070000
END:STANDARD
END:VTIMEZONE
BEGIN:VEVENT
DTSTART;TZID=America/Chicago:20260415T090000
DTEND;TZID=America/Chicago:20260415T110000
DTSTAMP:20260425T104531
CREATED:20240910T171125Z
LAST-MODIFIED:20240910T171929Z
UID:10004284-1776243600-1776250800@upliftedcare.org
SUMMARY:Vet to Vet Café
DESCRIPTION:All veterans are invited to the UpliftedCare Community Grief Center to attend the Vet-To-Vet Café from 9-11 a.m. on the 3rd Wednesday of every month. Veterans have the opportunity to meet other community veterans\, share stories\, access resources and make new connections. Coffee and light snacks are provided.
URL:https://upliftedcare.org/event/vet-to-vet-cafe-2/2026-04-15/
LOCATION:Uplifted Care Community Grief Center\, 3115 N. 1000 West Rd.\, Bourbonnais\, IL\, 60914\, United States
CATEGORIES:Monthly
ATTACH;FMTTYPE=image/jpeg:https://upliftedcare.org/wp-content/uploads/2024/05/iStock-944706874.jpg
ORGANIZER;CN="Uplifted Community Grief Center":MAILTO:info@upliftedgrief.org
END:VEVENT
BEGIN:VEVENT
DTSTART;TZID=America/Chicago:20260418T120000
DTEND;TZID=America/Chicago:20260418T120000
DTSTAMP:20260425T104531
CREATED:20241212T202318Z
LAST-MODIFIED:20241212T202533Z
UID:10005272-1776513600-1776513600@upliftedcare.org
SUMMARY:Kid's Hour
DESCRIPTION:
URL:https://upliftedcare.org/event/kids-hour/2026-04-18/
LOCATION:Uplifted Care Community Grief Center\, 3115 N. 1000 West Rd.\, Bourbonnais\, IL\, 60914\, United States
CATEGORIES:Monthly
ATTACH;FMTTYPE=image/jpeg:https://upliftedcare.org/wp-content/uploads/2024/12/iStock-1916612882.jpg
ORGANIZER;CN="Uplifted Community Grief Center":MAILTO:info@upliftedgrief.org
END:VEVENT
END:VCALENDAR