BEGIN:VCALENDAR
VERSION:2.0
PRODID:-//Uplifted Care - ECPv6.15.20//NONSGML v1.0//EN
CALSCALE:GREGORIAN
METHOD:PUBLISH
X-WR-CALNAME:Uplifted Care
X-ORIGINAL-URL:https://upliftedcare.org
X-WR-CALDESC:Events for Uplifted Care
REFRESH-INTERVAL;VALUE=DURATION:PT1H
X-Robots-Tag:noindex
X-PUBLISHED-TTL:PT1H
BEGIN:VTIMEZONE
TZID:America/Chicago
BEGIN:DAYLIGHT
TZOFFSETFROM:-0600
TZOFFSETTO:-0500
TZNAME:CDT
DTSTART:20250309T080000
END:DAYLIGHT
BEGIN:STANDARD
TZOFFSETFROM:-0500
TZOFFSETTO:-0600
TZNAME:CST
DTSTART:20251102T070000
END:STANDARD
BEGIN:DAYLIGHT
TZOFFSETFROM:-0600
TZOFFSETTO:-0500
TZNAME:CDT
DTSTART:20260308T080000
END:DAYLIGHT
BEGIN:STANDARD
TZOFFSETFROM:-0500
TZOFFSETTO:-0600
TZNAME:CST
DTSTART:20261101T070000
END:STANDARD
BEGIN:DAYLIGHT
TZOFFSETFROM:-0600
TZOFFSETTO:-0500
TZNAME:CDT
DTSTART:20270314T080000
END:DAYLIGHT
BEGIN:STANDARD
TZOFFSETFROM:-0500
TZOFFSETTO:-0600
TZNAME:CST
DTSTART:20271107T070000
END:STANDARD
END:VTIMEZONE
BEGIN:VEVENT
DTSTART;TZID=America/Chicago:20260516T100000
DTEND;TZID=America/Chicago:20260516T113000
DTSTAMP:20260423T155256
CREATED:20260127T154826Z
LAST-MODIFIED:20260127T154826Z
UID:10005952-1778925600-1778931000@upliftedcare.org
SUMMARY:The Business Side of Death Series
DESCRIPTION:There are often a lot of “business” related tasks that accompany the death of a loved one that families may not be aware of. Join us for this informative three part series that helps break down some of the common legal\, financial and other business related things people experience when they lose someone close to them and learn how to best navigate these experiences.\nAll workshop materials and light refreshments will be provided.Registration is required to attend.\n\nPart 1: Financial & Legal Information – April 18\, 2026Part 2: Estate Planning – May 16\, 2026Part 3: TBD – June 20\, 2026
URL:https://upliftedcare.org/event/the-business-side-of-death-series/2026-05-16/
LOCATION:Uplifted Care Community Grief Center\, 3115 N. 1000 West Rd.\, Bourbonnais\, IL\, 60914\, United States
CATEGORIES:Grief Support,Workshops
ATTACH;FMTTYPE=image/jpeg:https://upliftedcare.org/wp-content/uploads/2026/01/Business-Side-of-Death-Series.jpg
ORGANIZER;CN="Uplifted Community Grief Center":MAILTO:info@upliftedgrief.org
END:VEVENT
BEGIN:VEVENT
DTSTART;TZID=America/Chicago:20260620T100000
DTEND;TZID=America/Chicago:20260620T113000
DTSTAMP:20260423T155256
CREATED:20260127T154826Z
LAST-MODIFIED:20260127T154826Z
UID:10005953-1781949600-1781955000@upliftedcare.org
SUMMARY:The Business Side of Death Series
DESCRIPTION:There are often a lot of “business” related tasks that accompany the death of a loved one that families may not be aware of. Join us for this informative three part series that helps break down some of the common legal\, financial and other business related things people experience when they lose someone close to them and learn how to best navigate these experiences.\nAll workshop materials and light refreshments will be provided.Registration is required to attend.\n\nPart 1: Financial & Legal Information – April 18\, 2026Part 2: Estate Planning – May 16\, 2026Part 3: TBD – June 20\, 2026
URL:https://upliftedcare.org/event/the-business-side-of-death-series/2026-06-20/
LOCATION:Uplifted Care Community Grief Center\, 3115 N. 1000 West Rd.\, Bourbonnais\, IL\, 60914\, United States
CATEGORIES:Grief Support,Workshops
ATTACH;FMTTYPE=image/jpeg:https://upliftedcare.org/wp-content/uploads/2026/01/Business-Side-of-Death-Series.jpg
ORGANIZER;CN="Uplifted Community Grief Center":MAILTO:info@upliftedgrief.org
END:VEVENT
BEGIN:VEVENT
DTSTART;TZID=America/Chicago:20260815T100000
DTEND;TZID=America/Chicago:20260815T113000
DTSTAMP:20260423T155256
CREATED:20241212T210644Z
LAST-MODIFIED:20260127T155654Z
UID:10005582-1786788000-1786793400@upliftedcare.org
SUMMARY:Surviving the“Firsts” After Loss
DESCRIPTION:I have heard many times in a counseling session\, that the first year is the hardest. Many people tell me they feel confused\, they have difficulties with eating and sleeping\, and they feel overcome with the emotions of grief such as intense sadness\, anger\, guilt\, and loneliness. People tell me they feel isolated and the world is moving on without them. When these emotions subside\, we have chronological reminders of their passing that can trigger these intense feelings again such as the holidays\, birthdays\, anniversaries\, and events that they would shared in. \nI invite you to join for our monthly workshop about “Surviving the ‘Firsts’ After Loss.” You are not alone in this experience. Many grievers who come attend groups and workshops at the Grief Center share they find comfort in knowing they are not alone in their grief. We build connection through vulnerability\, and finding others who have experienced a new loss may be the thing we need to know we can move forward from this loss with strength and connection.
URL:https://upliftedcare.org/event/surviving-thefirsts-after-loss/
LOCATION:Uplifted Care Community Grief Center\, 3115 N. 1000 West Rd.\, Bourbonnais\, IL\, 60914\, United States
CATEGORIES:Grief Support,Workshops
ATTACH;FMTTYPE=image/jpeg:https://upliftedcare.org/wp-content/uploads/2024/12/iStock-1550908238.jpg
ORGANIZER;CN="Uplifted Community Grief Center":MAILTO:info@upliftedgrief.org
END:VEVENT
BEGIN:VEVENT
DTSTART;TZID=America/Chicago:20261015T170000
DTEND;TZID=America/Chicago:20261015T183000
DTSTAMP:20260423T155256
CREATED:20241212T211031Z
LAST-MODIFIED:20260127T155918Z
UID:10005584-1792083600-1792089000@upliftedcare.org
SUMMARY:Tear Soup
DESCRIPTION:This workshop will have a meal\, followed by the reading on screen of the book titled Tear Soup\, that focuses on the different aspects of grief that people may not recognize and offers tips on how to cope with these emotions. There will then be a craft made representing the lesson in the book along with some discussion for those who wish to participate.\nThis FREE workshop is open to individuals and families with children ages 5 and up. All workshop materials and light refreshments will be provided.\nRegistration is required to attend so materials may be prepared.
URL:https://upliftedcare.org/event/tear-soup-2/
LOCATION:Uplifted Care Community Grief Center\, 3115 N. 1000 West Rd.\, Bourbonnais\, IL\, 60914\, United States
CATEGORIES:Grief Support,Workshops
ATTACH;FMTTYPE=image/jpeg:https://upliftedcare.org/wp-content/uploads/2024/06/iStock-494991852.jpg
ORGANIZER;CN="Uplifted Community Grief Center":MAILTO:info@upliftedgrief.org
END:VEVENT
BEGIN:VEVENT
DTSTART;TZID=America/Chicago:20261114T100000
DTEND;TZID=America/Chicago:20261114T120000
DTSTAMP:20260423T155256
CREATED:20241212T211130Z
LAST-MODIFIED:20260127T160100Z
UID:10005585-1794650400-1794657600@upliftedcare.org
SUMMARY:Stories of the Season
DESCRIPTION:Understandably\, Andy Williams’ “It’s the Most Wonderful Time of the Year” is probably ‘hitting different’ (as the kids say) this year. November has arrived and the holiday season is upon us. We are expected to be in good spirits\, laugh and enjoy the company of others\, decorate\, and make enough food for an army at countless family gatherings. But this year\, perhaps all of that seems unattainable. Maybe this year the ‘sound of laughter filling in the air’ doesn’t feel as genuine as it did last year. \nThe holidays after the loss of a loved one feel empty\, lonely\, and sad. We may choose to lessen our holiday celebrations\, not decorate much\, or at all\, or we may choose to “skip” the holidays altogether. When my step-mother died at the beginning of December several years ago\, I went out to spend time with my dad and her daughter\, son-in-law and grandchildren. She had been sick for a few weeks before she passed and they had not prepared for Christmas. My aunt and I put up a tree and placed presents underneath for the children while my dad and step-sister grieved. They were fresh in their grief and definitely not in the holiday spirit\, and no one expected them to be. \nOur workshop this month is entitled “Stories of the Season.” We will share a meal together and learn about ways to cope through the holiday season. We can discuss how to tackle traditions\, family expectations and how to acknowledge the “elephant in the room.”
URL:https://upliftedcare.org/event/stories-of-the-season/
LOCATION:Uplifted Care Community Grief Center\, 3115 N. 1000 West Rd.\, Bourbonnais\, IL\, 60914\, United States
CATEGORIES:Grief Support,Workshops
ATTACH;FMTTYPE=image/jpeg:https://upliftedcare.org/wp-content/uploads/2024/12/iStock-1047605262.jpg
ORGANIZER;CN="Uplifted Community Grief Center":MAILTO:info@upliftedgrief.org
END:VEVENT
END:VCALENDAR