BEGIN:VCALENDAR
VERSION:2.0
PRODID:-//Uplifted Care - ECPv6.15.20//NONSGML v1.0//EN
CALSCALE:GREGORIAN
METHOD:PUBLISH
X-WR-CALNAME:Uplifted Care
X-ORIGINAL-URL:https://upliftedcare.org
X-WR-CALDESC:Events for Uplifted Care
REFRESH-INTERVAL;VALUE=DURATION:PT1H
X-Robots-Tag:noindex
X-PUBLISHED-TTL:PT1H
BEGIN:VTIMEZONE
TZID:America/Chicago
BEGIN:DAYLIGHT
TZOFFSETFROM:-0600
TZOFFSETTO:-0500
TZNAME:CDT
DTSTART:20230312T080000
END:DAYLIGHT
BEGIN:STANDARD
TZOFFSETFROM:-0500
TZOFFSETTO:-0600
TZNAME:CST
DTSTART:20231105T070000
END:STANDARD
BEGIN:DAYLIGHT
TZOFFSETFROM:-0600
TZOFFSETTO:-0500
TZNAME:CDT
DTSTART:20240310T080000
END:DAYLIGHT
BEGIN:STANDARD
TZOFFSETFROM:-0500
TZOFFSETTO:-0600
TZNAME:CST
DTSTART:20241103T070000
END:STANDARD
BEGIN:DAYLIGHT
TZOFFSETFROM:-0600
TZOFFSETTO:-0500
TZNAME:CDT
DTSTART:20250309T080000
END:DAYLIGHT
BEGIN:STANDARD
TZOFFSETFROM:-0500
TZOFFSETTO:-0600
TZNAME:CST
DTSTART:20251102T070000
END:STANDARD
BEGIN:DAYLIGHT
TZOFFSETFROM:-0600
TZOFFSETTO:-0500
TZNAME:CDT
DTSTART:20260308T080000
END:DAYLIGHT
BEGIN:STANDARD
TZOFFSETFROM:-0500
TZOFFSETTO:-0600
TZNAME:CST
DTSTART:20261101T070000
END:STANDARD
BEGIN:DAYLIGHT
TZOFFSETFROM:-0600
TZOFFSETTO:-0500
TZNAME:CDT
DTSTART:20270314T080000
END:DAYLIGHT
BEGIN:STANDARD
TZOFFSETFROM:-0500
TZOFFSETTO:-0600
TZNAME:CST
DTSTART:20271107T070000
END:STANDARD
END:VTIMEZONE
BEGIN:VEVENT
DTSTART;TZID=America/Chicago:20240821T090000
DTEND;TZID=America/Chicago:20240821T110000
DTSTAMP:20260425T152712
CREATED:20240813T130414Z
LAST-MODIFIED:20240815T160813Z
UID:10003965-1724230800-1724238000@upliftedcare.org
SUMMARY:Vet to Vet Café
DESCRIPTION:All veterans are invited to the UpliftedCare Community Grief Center to attend the Vet-To-Vet Café from 9-11 a.m. Aug. 21. Veterans have the opportunity to meet other community veterans\, share stories\, access resources and make new connections. Coffee and light snacks are provided.
URL:https://upliftedcare.org/event/vet-to-vet-cafe/
LOCATION:Uplifted Care Community Grief Center\, 3115 N. 1000 West Rd.\, Bourbonnais\, IL\, 60914\, United States
CATEGORIES:Monthly
ATTACH;FMTTYPE=image/jpeg:https://upliftedcare.org/wp-content/uploads/2024/05/iStock-944706874.jpg
ORGANIZER;CN="Uplifted Community Grief Center":MAILTO:info@upliftedgrief.org
END:VEVENT
BEGIN:VEVENT
DTSTART;TZID=America/Chicago:20240918T090000
DTEND;TZID=America/Chicago:20240918T110000
DTSTAMP:20260425T152712
CREATED:20240910T171125Z
LAST-MODIFIED:20240910T171929Z
UID:10004265-1726650000-1726657200@upliftedcare.org
SUMMARY:Vet to Vet Café
DESCRIPTION:All veterans are invited to the UpliftedCare Community Grief Center to attend the Vet-To-Vet Café from 9-11 a.m. on the 3rd Wednesday of every month. Veterans have the opportunity to meet other community veterans\, share stories\, access resources and make new connections. Coffee and light snacks are provided.
URL:https://upliftedcare.org/event/vet-to-vet-cafe-2/2024-09-18/
LOCATION:Uplifted Care Community Grief Center\, 3115 N. 1000 West Rd.\, Bourbonnais\, IL\, 60914\, United States
CATEGORIES:Monthly
ATTACH;FMTTYPE=image/jpeg:https://upliftedcare.org/wp-content/uploads/2024/05/iStock-944706874.jpg
ORGANIZER;CN="Uplifted Community Grief Center":MAILTO:info@upliftedgrief.org
END:VEVENT
BEGIN:VEVENT
DTSTART;TZID=America/Chicago:20241016T090000
DTEND;TZID=America/Chicago:20241016T110000
DTSTAMP:20260425T152712
CREATED:20240910T171125Z
LAST-MODIFIED:20240910T171929Z
UID:10004266-1729069200-1729076400@upliftedcare.org
SUMMARY:Vet to Vet Café
DESCRIPTION:All veterans are invited to the UpliftedCare Community Grief Center to attend the Vet-To-Vet Café from 9-11 a.m. on the 3rd Wednesday of every month. Veterans have the opportunity to meet other community veterans\, share stories\, access resources and make new connections. Coffee and light snacks are provided.
URL:https://upliftedcare.org/event/vet-to-vet-cafe-2/2024-10-16/
LOCATION:Uplifted Care Community Grief Center\, 3115 N. 1000 West Rd.\, Bourbonnais\, IL\, 60914\, United States
CATEGORIES:Monthly
ATTACH;FMTTYPE=image/jpeg:https://upliftedcare.org/wp-content/uploads/2024/05/iStock-944706874.jpg
ORGANIZER;CN="Uplifted Community Grief Center":MAILTO:info@upliftedgrief.org
END:VEVENT
BEGIN:VEVENT
DTSTART;TZID=America/Chicago:20241120T090000
DTEND;TZID=America/Chicago:20241120T110000
DTSTAMP:20260425T152712
CREATED:20240910T171125Z
LAST-MODIFIED:20240910T171929Z
UID:10004267-1732093200-1732100400@upliftedcare.org
SUMMARY:Vet to Vet Café
DESCRIPTION:All veterans are invited to the UpliftedCare Community Grief Center to attend the Vet-To-Vet Café from 9-11 a.m. on the 3rd Wednesday of every month. Veterans have the opportunity to meet other community veterans\, share stories\, access resources and make new connections. Coffee and light snacks are provided.
URL:https://upliftedcare.org/event/vet-to-vet-cafe-2/2024-11-20/
LOCATION:Uplifted Care Community Grief Center\, 3115 N. 1000 West Rd.\, Bourbonnais\, IL\, 60914\, United States
CATEGORIES:Monthly
ATTACH;FMTTYPE=image/jpeg:https://upliftedcare.org/wp-content/uploads/2024/05/iStock-944706874.jpg
ORGANIZER;CN="Uplifted Community Grief Center":MAILTO:info@upliftedgrief.org
END:VEVENT
BEGIN:VEVENT
DTSTART;TZID=America/Chicago:20241218T090000
DTEND;TZID=America/Chicago:20241218T110000
DTSTAMP:20260425T152712
CREATED:20240910T171125Z
LAST-MODIFIED:20240910T171929Z
UID:10004268-1734512400-1734519600@upliftedcare.org
SUMMARY:Vet to Vet Café
DESCRIPTION:All veterans are invited to the UpliftedCare Community Grief Center to attend the Vet-To-Vet Café from 9-11 a.m. on the 3rd Wednesday of every month. Veterans have the opportunity to meet other community veterans\, share stories\, access resources and make new connections. Coffee and light snacks are provided.
URL:https://upliftedcare.org/event/vet-to-vet-cafe-2/2024-12-18/
LOCATION:Uplifted Care Community Grief Center\, 3115 N. 1000 West Rd.\, Bourbonnais\, IL\, 60914\, United States
CATEGORIES:Monthly
ATTACH;FMTTYPE=image/jpeg:https://upliftedcare.org/wp-content/uploads/2024/05/iStock-944706874.jpg
ORGANIZER;CN="Uplifted Community Grief Center":MAILTO:info@upliftedgrief.org
END:VEVENT
BEGIN:VEVENT
DTSTART;TZID=America/Chicago:20250115T090000
DTEND;TZID=America/Chicago:20250115T110000
DTSTAMP:20260425T152712
CREATED:20240910T171125Z
LAST-MODIFIED:20240910T171929Z
UID:10004269-1736931600-1736938800@upliftedcare.org
SUMMARY:Vet to Vet Café
DESCRIPTION:All veterans are invited to the UpliftedCare Community Grief Center to attend the Vet-To-Vet Café from 9-11 a.m. on the 3rd Wednesday of every month. Veterans have the opportunity to meet other community veterans\, share stories\, access resources and make new connections. Coffee and light snacks are provided.
URL:https://upliftedcare.org/event/vet-to-vet-cafe-2/2025-01-15/
LOCATION:Uplifted Care Community Grief Center\, 3115 N. 1000 West Rd.\, Bourbonnais\, IL\, 60914\, United States
CATEGORIES:Monthly
ATTACH;FMTTYPE=image/jpeg:https://upliftedcare.org/wp-content/uploads/2024/05/iStock-944706874.jpg
ORGANIZER;CN="Uplifted Community Grief Center":MAILTO:info@upliftedgrief.org
END:VEVENT
BEGIN:VEVENT
DTSTART;TZID=America/Chicago:20250219T090000
DTEND;TZID=America/Chicago:20250219T110000
DTSTAMP:20260425T152712
CREATED:20240910T171125Z
LAST-MODIFIED:20240910T171929Z
UID:10004270-1739955600-1739962800@upliftedcare.org
SUMMARY:Vet to Vet Café
DESCRIPTION:All veterans are invited to the UpliftedCare Community Grief Center to attend the Vet-To-Vet Café from 9-11 a.m. on the 3rd Wednesday of every month. Veterans have the opportunity to meet other community veterans\, share stories\, access resources and make new connections. Coffee and light snacks are provided.
URL:https://upliftedcare.org/event/vet-to-vet-cafe-2/2025-02-19/
LOCATION:Uplifted Care Community Grief Center\, 3115 N. 1000 West Rd.\, Bourbonnais\, IL\, 60914\, United States
CATEGORIES:Monthly
ATTACH;FMTTYPE=image/jpeg:https://upliftedcare.org/wp-content/uploads/2024/05/iStock-944706874.jpg
ORGANIZER;CN="Uplifted Community Grief Center":MAILTO:info@upliftedgrief.org
END:VEVENT
BEGIN:VEVENT
DTSTART;TZID=America/Chicago:20250319T090000
DTEND;TZID=America/Chicago:20250319T110000
DTSTAMP:20260425T152712
CREATED:20240910T171125Z
LAST-MODIFIED:20240910T171929Z
UID:10004271-1742374800-1742382000@upliftedcare.org
SUMMARY:Vet to Vet Café
DESCRIPTION:All veterans are invited to the UpliftedCare Community Grief Center to attend the Vet-To-Vet Café from 9-11 a.m. on the 3rd Wednesday of every month. Veterans have the opportunity to meet other community veterans\, share stories\, access resources and make new connections. Coffee and light snacks are provided.
URL:https://upliftedcare.org/event/vet-to-vet-cafe-2/2025-03-19/
LOCATION:Uplifted Care Community Grief Center\, 3115 N. 1000 West Rd.\, Bourbonnais\, IL\, 60914\, United States
CATEGORIES:Monthly
ATTACH;FMTTYPE=image/jpeg:https://upliftedcare.org/wp-content/uploads/2024/05/iStock-944706874.jpg
ORGANIZER;CN="Uplifted Community Grief Center":MAILTO:info@upliftedgrief.org
END:VEVENT
BEGIN:VEVENT
DTSTART;TZID=America/Chicago:20250416T090000
DTEND;TZID=America/Chicago:20250416T110000
DTSTAMP:20260425T152712
CREATED:20240910T171125Z
LAST-MODIFIED:20240910T171929Z
UID:10004272-1744794000-1744801200@upliftedcare.org
SUMMARY:Vet to Vet Café
DESCRIPTION:All veterans are invited to the UpliftedCare Community Grief Center to attend the Vet-To-Vet Café from 9-11 a.m. on the 3rd Wednesday of every month. Veterans have the opportunity to meet other community veterans\, share stories\, access resources and make new connections. Coffee and light snacks are provided.
URL:https://upliftedcare.org/event/vet-to-vet-cafe-2/2025-04-16/
LOCATION:Uplifted Care Community Grief Center\, 3115 N. 1000 West Rd.\, Bourbonnais\, IL\, 60914\, United States
CATEGORIES:Monthly
ATTACH;FMTTYPE=image/jpeg:https://upliftedcare.org/wp-content/uploads/2024/05/iStock-944706874.jpg
ORGANIZER;CN="Uplifted Community Grief Center":MAILTO:info@upliftedgrief.org
END:VEVENT
BEGIN:VEVENT
DTSTART;TZID=America/Chicago:20250521T090000
DTEND;TZID=America/Chicago:20250521T110000
DTSTAMP:20260425T152712
CREATED:20240910T171125Z
LAST-MODIFIED:20240910T171929Z
UID:10004273-1747818000-1747825200@upliftedcare.org
SUMMARY:Vet to Vet Café
DESCRIPTION:All veterans are invited to the UpliftedCare Community Grief Center to attend the Vet-To-Vet Café from 9-11 a.m. on the 3rd Wednesday of every month. Veterans have the opportunity to meet other community veterans\, share stories\, access resources and make new connections. Coffee and light snacks are provided.
URL:https://upliftedcare.org/event/vet-to-vet-cafe-2/2025-05-21/
LOCATION:Uplifted Care Community Grief Center\, 3115 N. 1000 West Rd.\, Bourbonnais\, IL\, 60914\, United States
CATEGORIES:Monthly
ATTACH;FMTTYPE=image/jpeg:https://upliftedcare.org/wp-content/uploads/2024/05/iStock-944706874.jpg
ORGANIZER;CN="Uplifted Community Grief Center":MAILTO:info@upliftedgrief.org
END:VEVENT
BEGIN:VEVENT
DTSTART;TZID=America/Chicago:20250618T090000
DTEND;TZID=America/Chicago:20250618T110000
DTSTAMP:20260425T152712
CREATED:20240910T171125Z
LAST-MODIFIED:20240910T171929Z
UID:10004274-1750237200-1750244400@upliftedcare.org
SUMMARY:Vet to Vet Café
DESCRIPTION:All veterans are invited to the UpliftedCare Community Grief Center to attend the Vet-To-Vet Café from 9-11 a.m. on the 3rd Wednesday of every month. Veterans have the opportunity to meet other community veterans\, share stories\, access resources and make new connections. Coffee and light snacks are provided.
URL:https://upliftedcare.org/event/vet-to-vet-cafe-2/2025-06-18/
LOCATION:Uplifted Care Community Grief Center\, 3115 N. 1000 West Rd.\, Bourbonnais\, IL\, 60914\, United States
CATEGORIES:Monthly
ATTACH;FMTTYPE=image/jpeg:https://upliftedcare.org/wp-content/uploads/2024/05/iStock-944706874.jpg
ORGANIZER;CN="Uplifted Community Grief Center":MAILTO:info@upliftedgrief.org
END:VEVENT
BEGIN:VEVENT
DTSTART;TZID=America/Chicago:20250716T090000
DTEND;TZID=America/Chicago:20250716T110000
DTSTAMP:20260425T152712
CREATED:20240910T171125Z
LAST-MODIFIED:20240910T171929Z
UID:10004275-1752656400-1752663600@upliftedcare.org
SUMMARY:Vet to Vet Café
DESCRIPTION:All veterans are invited to the UpliftedCare Community Grief Center to attend the Vet-To-Vet Café from 9-11 a.m. on the 3rd Wednesday of every month. Veterans have the opportunity to meet other community veterans\, share stories\, access resources and make new connections. Coffee and light snacks are provided.
URL:https://upliftedcare.org/event/vet-to-vet-cafe-2/2025-07-16/
LOCATION:Uplifted Care Community Grief Center\, 3115 N. 1000 West Rd.\, Bourbonnais\, IL\, 60914\, United States
CATEGORIES:Monthly
ATTACH;FMTTYPE=image/jpeg:https://upliftedcare.org/wp-content/uploads/2024/05/iStock-944706874.jpg
ORGANIZER;CN="Uplifted Community Grief Center":MAILTO:info@upliftedgrief.org
END:VEVENT
BEGIN:VEVENT
DTSTART;TZID=America/Chicago:20250820T090000
DTEND;TZID=America/Chicago:20250820T110000
DTSTAMP:20260425T152712
CREATED:20240910T171125Z
LAST-MODIFIED:20240910T171929Z
UID:10004276-1755680400-1755687600@upliftedcare.org
SUMMARY:Vet to Vet Café
DESCRIPTION:All veterans are invited to the UpliftedCare Community Grief Center to attend the Vet-To-Vet Café from 9-11 a.m. on the 3rd Wednesday of every month. Veterans have the opportunity to meet other community veterans\, share stories\, access resources and make new connections. Coffee and light snacks are provided.
URL:https://upliftedcare.org/event/vet-to-vet-cafe-2/2025-08-20/
LOCATION:Uplifted Care Community Grief Center\, 3115 N. 1000 West Rd.\, Bourbonnais\, IL\, 60914\, United States
CATEGORIES:Monthly
ATTACH;FMTTYPE=image/jpeg:https://upliftedcare.org/wp-content/uploads/2024/05/iStock-944706874.jpg
ORGANIZER;CN="Uplifted Community Grief Center":MAILTO:info@upliftedgrief.org
END:VEVENT
BEGIN:VEVENT
DTSTART;TZID=America/Chicago:20250917T090000
DTEND;TZID=America/Chicago:20250917T110000
DTSTAMP:20260425T152712
CREATED:20240910T171125Z
LAST-MODIFIED:20240910T171929Z
UID:10004277-1758099600-1758106800@upliftedcare.org
SUMMARY:Vet to Vet Café
DESCRIPTION:All veterans are invited to the UpliftedCare Community Grief Center to attend the Vet-To-Vet Café from 9-11 a.m. on the 3rd Wednesday of every month. Veterans have the opportunity to meet other community veterans\, share stories\, access resources and make new connections. Coffee and light snacks are provided.
URL:https://upliftedcare.org/event/vet-to-vet-cafe-2/2025-09-17/
LOCATION:Uplifted Care Community Grief Center\, 3115 N. 1000 West Rd.\, Bourbonnais\, IL\, 60914\, United States
CATEGORIES:Monthly
ATTACH;FMTTYPE=image/jpeg:https://upliftedcare.org/wp-content/uploads/2024/05/iStock-944706874.jpg
ORGANIZER;CN="Uplifted Community Grief Center":MAILTO:info@upliftedgrief.org
END:VEVENT
BEGIN:VEVENT
DTSTART;TZID=America/Chicago:20251015T090000
DTEND;TZID=America/Chicago:20251015T110000
DTSTAMP:20260425T152712
CREATED:20240910T171125Z
LAST-MODIFIED:20240910T171929Z
UID:10004278-1760518800-1760526000@upliftedcare.org
SUMMARY:Vet to Vet Café
DESCRIPTION:All veterans are invited to the UpliftedCare Community Grief Center to attend the Vet-To-Vet Café from 9-11 a.m. on the 3rd Wednesday of every month. Veterans have the opportunity to meet other community veterans\, share stories\, access resources and make new connections. Coffee and light snacks are provided.
URL:https://upliftedcare.org/event/vet-to-vet-cafe-2/2025-10-15/
LOCATION:Uplifted Care Community Grief Center\, 3115 N. 1000 West Rd.\, Bourbonnais\, IL\, 60914\, United States
CATEGORIES:Monthly
ATTACH;FMTTYPE=image/jpeg:https://upliftedcare.org/wp-content/uploads/2024/05/iStock-944706874.jpg
ORGANIZER;CN="Uplifted Community Grief Center":MAILTO:info@upliftedgrief.org
END:VEVENT
BEGIN:VEVENT
DTSTART;TZID=America/Chicago:20251119T090000
DTEND;TZID=America/Chicago:20251119T110000
DTSTAMP:20260425T152712
CREATED:20240910T171125Z
LAST-MODIFIED:20240910T171929Z
UID:10004279-1763542800-1763550000@upliftedcare.org
SUMMARY:Vet to Vet Café
DESCRIPTION:All veterans are invited to the UpliftedCare Community Grief Center to attend the Vet-To-Vet Café from 9-11 a.m. on the 3rd Wednesday of every month. Veterans have the opportunity to meet other community veterans\, share stories\, access resources and make new connections. Coffee and light snacks are provided.
URL:https://upliftedcare.org/event/vet-to-vet-cafe-2/2025-11-19/
LOCATION:Uplifted Care Community Grief Center\, 3115 N. 1000 West Rd.\, Bourbonnais\, IL\, 60914\, United States
CATEGORIES:Monthly
ATTACH;FMTTYPE=image/jpeg:https://upliftedcare.org/wp-content/uploads/2024/05/iStock-944706874.jpg
ORGANIZER;CN="Uplifted Community Grief Center":MAILTO:info@upliftedgrief.org
END:VEVENT
BEGIN:VEVENT
DTSTART;TZID=America/Chicago:20251217T090000
DTEND;TZID=America/Chicago:20251217T110000
DTSTAMP:20260425T152712
CREATED:20240910T171125Z
LAST-MODIFIED:20240910T171929Z
UID:10004280-1765962000-1765969200@upliftedcare.org
SUMMARY:Vet to Vet Café
DESCRIPTION:All veterans are invited to the UpliftedCare Community Grief Center to attend the Vet-To-Vet Café from 9-11 a.m. on the 3rd Wednesday of every month. Veterans have the opportunity to meet other community veterans\, share stories\, access resources and make new connections. Coffee and light snacks are provided.
URL:https://upliftedcare.org/event/vet-to-vet-cafe-2/2025-12-17/
LOCATION:Uplifted Care Community Grief Center\, 3115 N. 1000 West Rd.\, Bourbonnais\, IL\, 60914\, United States
CATEGORIES:Monthly
ATTACH;FMTTYPE=image/jpeg:https://upliftedcare.org/wp-content/uploads/2024/05/iStock-944706874.jpg
ORGANIZER;CN="Uplifted Community Grief Center":MAILTO:info@upliftedgrief.org
END:VEVENT
BEGIN:VEVENT
DTSTART;TZID=America/Chicago:20260121T090000
DTEND;TZID=America/Chicago:20260121T110000
DTSTAMP:20260425T152712
CREATED:20240910T171125Z
LAST-MODIFIED:20240910T171929Z
UID:10004281-1768986000-1768993200@upliftedcare.org
SUMMARY:Vet to Vet Café
DESCRIPTION:All veterans are invited to the UpliftedCare Community Grief Center to attend the Vet-To-Vet Café from 9-11 a.m. on the 3rd Wednesday of every month. Veterans have the opportunity to meet other community veterans\, share stories\, access resources and make new connections. Coffee and light snacks are provided.
URL:https://upliftedcare.org/event/vet-to-vet-cafe-2/2026-01-21/
LOCATION:Uplifted Care Community Grief Center\, 3115 N. 1000 West Rd.\, Bourbonnais\, IL\, 60914\, United States
CATEGORIES:Monthly
ATTACH;FMTTYPE=image/jpeg:https://upliftedcare.org/wp-content/uploads/2024/05/iStock-944706874.jpg
ORGANIZER;CN="Uplifted Community Grief Center":MAILTO:info@upliftedgrief.org
END:VEVENT
BEGIN:VEVENT
DTSTART;TZID=America/Chicago:20260218T090000
DTEND;TZID=America/Chicago:20260218T110000
DTSTAMP:20260425T152712
CREATED:20240910T171125Z
LAST-MODIFIED:20240910T171929Z
UID:10004282-1771405200-1771412400@upliftedcare.org
SUMMARY:Vet to Vet Café
DESCRIPTION:All veterans are invited to the UpliftedCare Community Grief Center to attend the Vet-To-Vet Café from 9-11 a.m. on the 3rd Wednesday of every month. Veterans have the opportunity to meet other community veterans\, share stories\, access resources and make new connections. Coffee and light snacks are provided.
URL:https://upliftedcare.org/event/vet-to-vet-cafe-2/2026-02-18/
LOCATION:Uplifted Care Community Grief Center\, 3115 N. 1000 West Rd.\, Bourbonnais\, IL\, 60914\, United States
CATEGORIES:Monthly
ATTACH;FMTTYPE=image/jpeg:https://upliftedcare.org/wp-content/uploads/2024/05/iStock-944706874.jpg
ORGANIZER;CN="Uplifted Community Grief Center":MAILTO:info@upliftedgrief.org
END:VEVENT
BEGIN:VEVENT
DTSTART;TZID=America/Chicago:20260318T090000
DTEND;TZID=America/Chicago:20260318T110000
DTSTAMP:20260425T152712
CREATED:20240910T171125Z
LAST-MODIFIED:20240910T171929Z
UID:10004283-1773824400-1773831600@upliftedcare.org
SUMMARY:Vet to Vet Café
DESCRIPTION:All veterans are invited to the UpliftedCare Community Grief Center to attend the Vet-To-Vet Café from 9-11 a.m. on the 3rd Wednesday of every month. Veterans have the opportunity to meet other community veterans\, share stories\, access resources and make new connections. Coffee and light snacks are provided.
URL:https://upliftedcare.org/event/vet-to-vet-cafe-2/2026-03-18/
LOCATION:Uplifted Care Community Grief Center\, 3115 N. 1000 West Rd.\, Bourbonnais\, IL\, 60914\, United States
CATEGORIES:Monthly
ATTACH;FMTTYPE=image/jpeg:https://upliftedcare.org/wp-content/uploads/2024/05/iStock-944706874.jpg
ORGANIZER;CN="Uplifted Community Grief Center":MAILTO:info@upliftedgrief.org
END:VEVENT
BEGIN:VEVENT
DTSTART;TZID=America/Chicago:20260415T090000
DTEND;TZID=America/Chicago:20260415T110000
DTSTAMP:20260425T152712
CREATED:20240910T171125Z
LAST-MODIFIED:20240910T171929Z
UID:10004284-1776243600-1776250800@upliftedcare.org
SUMMARY:Vet to Vet Café
DESCRIPTION:All veterans are invited to the UpliftedCare Community Grief Center to attend the Vet-To-Vet Café from 9-11 a.m. on the 3rd Wednesday of every month. Veterans have the opportunity to meet other community veterans\, share stories\, access resources and make new connections. Coffee and light snacks are provided.
URL:https://upliftedcare.org/event/vet-to-vet-cafe-2/2026-04-15/
LOCATION:Uplifted Care Community Grief Center\, 3115 N. 1000 West Rd.\, Bourbonnais\, IL\, 60914\, United States
CATEGORIES:Monthly
ATTACH;FMTTYPE=image/jpeg:https://upliftedcare.org/wp-content/uploads/2024/05/iStock-944706874.jpg
ORGANIZER;CN="Uplifted Community Grief Center":MAILTO:info@upliftedgrief.org
END:VEVENT
END:VCALENDAR