BEGIN:VCALENDAR
VERSION:2.0
PRODID:-//Uplifted Care - ECPv6.15.20//NONSGML v1.0//EN
CALSCALE:GREGORIAN
METHOD:PUBLISH
X-ORIGINAL-URL:https://upliftedcare.org
X-WR-CALDESC:Events for Uplifted Care
REFRESH-INTERVAL;VALUE=DURATION:PT1H
X-Robots-Tag:noindex
X-PUBLISHED-TTL:PT1H
BEGIN:VTIMEZONE
TZID:America/Chicago
BEGIN:DAYLIGHT
TZOFFSETFROM:-0600
TZOFFSETTO:-0500
TZNAME:CDT
DTSTART:20270314T080000
END:DAYLIGHT
BEGIN:STANDARD
TZOFFSETFROM:-0500
TZOFFSETTO:-0600
TZNAME:CST
DTSTART:20271107T070000
END:STANDARD
BEGIN:DAYLIGHT
TZOFFSETFROM:-0600
TZOFFSETTO:-0500
TZNAME:CDT
DTSTART:20280312T080000
END:DAYLIGHT
BEGIN:STANDARD
TZOFFSETFROM:-0500
TZOFFSETTO:-0600
TZNAME:CST
DTSTART:20281105T070000
END:STANDARD
BEGIN:DAYLIGHT
TZOFFSETFROM:-0600
TZOFFSETTO:-0500
TZNAME:CDT
DTSTART:20290311T080000
END:DAYLIGHT
BEGIN:STANDARD
TZOFFSETFROM:-0500
TZOFFSETTO:-0600
TZNAME:CST
DTSTART:20291104T070000
END:STANDARD
BEGIN:DAYLIGHT
TZOFFSETFROM:-0600
TZOFFSETTO:-0500
TZNAME:CDT
DTSTART:20300310T080000
END:DAYLIGHT
BEGIN:STANDARD
TZOFFSETFROM:-0500
TZOFFSETTO:-0600
TZNAME:CST
DTSTART:20301103T070000
END:STANDARD
END:VTIMEZONE
BEGIN:VEVENT
DTSTART;TZID=America/Chicago:20280517T090000
DTEND;TZID=America/Chicago:20280517T110000
DTSTAMP:20260425T152720
CREATED:20240910T171125Z
LAST-MODIFIED:20240910T171929Z
UID:10004309-1842166800-1842174000@upliftedcare.org
SUMMARY:Vet to Vet Café
DESCRIPTION:All veterans are invited to the UpliftedCare Community Grief Center to attend the Vet-To-Vet Café from 9-11 a.m. on the 3rd Wednesday of every month. Veterans have the opportunity to meet other community veterans\, share stories\, access resources and make new connections. Coffee and light snacks are provided.
URL:https://upliftedcare.org/event/vet-to-vet-cafe-2/2028-05-17/
LOCATION:Uplifted Care Community Grief Center\, 3115 N. 1000 West Rd.\, Bourbonnais\, IL\, 60914\, United States
CATEGORIES:Monthly
ATTACH;FMTTYPE=image/jpeg:https://upliftedcare.org/wp-content/uploads/2024/05/iStock-944706874.jpg
ORGANIZER;CN="Uplifted Community Grief Center":MAILTO:info@upliftedgrief.org
END:VEVENT
BEGIN:VEVENT
DTSTART;TZID=America/Chicago:20280621T090000
DTEND;TZID=America/Chicago:20280621T110000
DTSTAMP:20260425T152720
CREATED:20240910T171125Z
LAST-MODIFIED:20240910T171929Z
UID:10004310-1845190800-1845198000@upliftedcare.org
SUMMARY:Vet to Vet Café
DESCRIPTION:All veterans are invited to the UpliftedCare Community Grief Center to attend the Vet-To-Vet Café from 9-11 a.m. on the 3rd Wednesday of every month. Veterans have the opportunity to meet other community veterans\, share stories\, access resources and make new connections. Coffee and light snacks are provided.
URL:https://upliftedcare.org/event/vet-to-vet-cafe-2/2028-06-21/
LOCATION:Uplifted Care Community Grief Center\, 3115 N. 1000 West Rd.\, Bourbonnais\, IL\, 60914\, United States
CATEGORIES:Monthly
ATTACH;FMTTYPE=image/jpeg:https://upliftedcare.org/wp-content/uploads/2024/05/iStock-944706874.jpg
ORGANIZER;CN="Uplifted Community Grief Center":MAILTO:info@upliftedgrief.org
END:VEVENT
BEGIN:VEVENT
DTSTART;TZID=America/Chicago:20280719T090000
DTEND;TZID=America/Chicago:20280719T110000
DTSTAMP:20260425T152720
CREATED:20240910T171125Z
LAST-MODIFIED:20240910T171929Z
UID:10004311-1847610000-1847617200@upliftedcare.org
SUMMARY:Vet to Vet Café
DESCRIPTION:All veterans are invited to the UpliftedCare Community Grief Center to attend the Vet-To-Vet Café from 9-11 a.m. on the 3rd Wednesday of every month. Veterans have the opportunity to meet other community veterans\, share stories\, access resources and make new connections. Coffee and light snacks are provided.
URL:https://upliftedcare.org/event/vet-to-vet-cafe-2/2028-07-19/
LOCATION:Uplifted Care Community Grief Center\, 3115 N. 1000 West Rd.\, Bourbonnais\, IL\, 60914\, United States
CATEGORIES:Monthly
ATTACH;FMTTYPE=image/jpeg:https://upliftedcare.org/wp-content/uploads/2024/05/iStock-944706874.jpg
ORGANIZER;CN="Uplifted Community Grief Center":MAILTO:info@upliftedgrief.org
END:VEVENT
BEGIN:VEVENT
DTSTART;TZID=America/Chicago:20280816T090000
DTEND;TZID=America/Chicago:20280816T110000
DTSTAMP:20260425T152720
CREATED:20240910T171125Z
LAST-MODIFIED:20240910T171929Z
UID:10004312-1850029200-1850036400@upliftedcare.org
SUMMARY:Vet to Vet Café
DESCRIPTION:All veterans are invited to the UpliftedCare Community Grief Center to attend the Vet-To-Vet Café from 9-11 a.m. on the 3rd Wednesday of every month. Veterans have the opportunity to meet other community veterans\, share stories\, access resources and make new connections. Coffee and light snacks are provided.
URL:https://upliftedcare.org/event/vet-to-vet-cafe-2/2028-08-16/
LOCATION:Uplifted Care Community Grief Center\, 3115 N. 1000 West Rd.\, Bourbonnais\, IL\, 60914\, United States
CATEGORIES:Monthly
ATTACH;FMTTYPE=image/jpeg:https://upliftedcare.org/wp-content/uploads/2024/05/iStock-944706874.jpg
ORGANIZER;CN="Uplifted Community Grief Center":MAILTO:info@upliftedgrief.org
END:VEVENT
BEGIN:VEVENT
DTSTART;TZID=America/Chicago:20280920T090000
DTEND;TZID=America/Chicago:20280920T110000
DTSTAMP:20260425T152720
CREATED:20240910T171125Z
LAST-MODIFIED:20240910T171929Z
UID:10004313-1853053200-1853060400@upliftedcare.org
SUMMARY:Vet to Vet Café
DESCRIPTION:All veterans are invited to the UpliftedCare Community Grief Center to attend the Vet-To-Vet Café from 9-11 a.m. on the 3rd Wednesday of every month. Veterans have the opportunity to meet other community veterans\, share stories\, access resources and make new connections. Coffee and light snacks are provided.
URL:https://upliftedcare.org/event/vet-to-vet-cafe-2/2028-09-20/
LOCATION:Uplifted Care Community Grief Center\, 3115 N. 1000 West Rd.\, Bourbonnais\, IL\, 60914\, United States
CATEGORIES:Monthly
ATTACH;FMTTYPE=image/jpeg:https://upliftedcare.org/wp-content/uploads/2024/05/iStock-944706874.jpg
ORGANIZER;CN="Uplifted Community Grief Center":MAILTO:info@upliftedgrief.org
END:VEVENT
BEGIN:VEVENT
DTSTART;TZID=America/Chicago:20281018T090000
DTEND;TZID=America/Chicago:20281018T110000
DTSTAMP:20260425T152720
CREATED:20240910T171125Z
LAST-MODIFIED:20240910T171929Z
UID:10004314-1855472400-1855479600@upliftedcare.org
SUMMARY:Vet to Vet Café
DESCRIPTION:All veterans are invited to the UpliftedCare Community Grief Center to attend the Vet-To-Vet Café from 9-11 a.m. on the 3rd Wednesday of every month. Veterans have the opportunity to meet other community veterans\, share stories\, access resources and make new connections. Coffee and light snacks are provided.
URL:https://upliftedcare.org/event/vet-to-vet-cafe-2/2028-10-18/
LOCATION:Uplifted Care Community Grief Center\, 3115 N. 1000 West Rd.\, Bourbonnais\, IL\, 60914\, United States
CATEGORIES:Monthly
ATTACH;FMTTYPE=image/jpeg:https://upliftedcare.org/wp-content/uploads/2024/05/iStock-944706874.jpg
ORGANIZER;CN="Uplifted Community Grief Center":MAILTO:info@upliftedgrief.org
END:VEVENT
BEGIN:VEVENT
DTSTART;TZID=America/Chicago:20281115T090000
DTEND;TZID=America/Chicago:20281115T110000
DTSTAMP:20260425T152720
CREATED:20240910T171125Z
LAST-MODIFIED:20240910T171929Z
UID:10004315-1857891600-1857898800@upliftedcare.org
SUMMARY:Vet to Vet Café
DESCRIPTION:All veterans are invited to the UpliftedCare Community Grief Center to attend the Vet-To-Vet Café from 9-11 a.m. on the 3rd Wednesday of every month. Veterans have the opportunity to meet other community veterans\, share stories\, access resources and make new connections. Coffee and light snacks are provided.
URL:https://upliftedcare.org/event/vet-to-vet-cafe-2/2028-11-15/
LOCATION:Uplifted Care Community Grief Center\, 3115 N. 1000 West Rd.\, Bourbonnais\, IL\, 60914\, United States
CATEGORIES:Monthly
ATTACH;FMTTYPE=image/jpeg:https://upliftedcare.org/wp-content/uploads/2024/05/iStock-944706874.jpg
ORGANIZER;CN="Uplifted Community Grief Center":MAILTO:info@upliftedgrief.org
END:VEVENT
BEGIN:VEVENT
DTSTART;TZID=America/Chicago:20281220T090000
DTEND;TZID=America/Chicago:20281220T110000
DTSTAMP:20260425T152720
CREATED:20240910T171125Z
LAST-MODIFIED:20240910T171929Z
UID:10004316-1860915600-1860922800@upliftedcare.org
SUMMARY:Vet to Vet Café
DESCRIPTION:All veterans are invited to the UpliftedCare Community Grief Center to attend the Vet-To-Vet Café from 9-11 a.m. on the 3rd Wednesday of every month. Veterans have the opportunity to meet other community veterans\, share stories\, access resources and make new connections. Coffee and light snacks are provided.
URL:https://upliftedcare.org/event/vet-to-vet-cafe-2/2028-12-20/
LOCATION:Uplifted Care Community Grief Center\, 3115 N. 1000 West Rd.\, Bourbonnais\, IL\, 60914\, United States
CATEGORIES:Monthly
ATTACH;FMTTYPE=image/jpeg:https://upliftedcare.org/wp-content/uploads/2024/05/iStock-944706874.jpg
ORGANIZER;CN="Uplifted Community Grief Center":MAILTO:info@upliftedgrief.org
END:VEVENT
BEGIN:VEVENT
DTSTART;TZID=America/Chicago:20290117T090000
DTEND;TZID=America/Chicago:20290117T110000
DTSTAMP:20260425T152720
CREATED:20240910T171125Z
LAST-MODIFIED:20240910T171929Z
UID:10004317-1863334800-1863342000@upliftedcare.org
SUMMARY:Vet to Vet Café
DESCRIPTION:All veterans are invited to the UpliftedCare Community Grief Center to attend the Vet-To-Vet Café from 9-11 a.m. on the 3rd Wednesday of every month. Veterans have the opportunity to meet other community veterans\, share stories\, access resources and make new connections. Coffee and light snacks are provided.
URL:https://upliftedcare.org/event/vet-to-vet-cafe-2/2029-01-17/
LOCATION:Uplifted Care Community Grief Center\, 3115 N. 1000 West Rd.\, Bourbonnais\, IL\, 60914\, United States
CATEGORIES:Monthly
ATTACH;FMTTYPE=image/jpeg:https://upliftedcare.org/wp-content/uploads/2024/05/iStock-944706874.jpg
ORGANIZER;CN="Uplifted Community Grief Center":MAILTO:info@upliftedgrief.org
END:VEVENT
BEGIN:VEVENT
DTSTART;TZID=America/Chicago:20290221T090000
DTEND;TZID=America/Chicago:20290221T110000
DTSTAMP:20260425T152720
CREATED:20240910T171125Z
LAST-MODIFIED:20240910T171929Z
UID:10004318-1866358800-1866366000@upliftedcare.org
SUMMARY:Vet to Vet Café
DESCRIPTION:All veterans are invited to the UpliftedCare Community Grief Center to attend the Vet-To-Vet Café from 9-11 a.m. on the 3rd Wednesday of every month. Veterans have the opportunity to meet other community veterans\, share stories\, access resources and make new connections. Coffee and light snacks are provided.
URL:https://upliftedcare.org/event/vet-to-vet-cafe-2/2029-02-21/
LOCATION:Uplifted Care Community Grief Center\, 3115 N. 1000 West Rd.\, Bourbonnais\, IL\, 60914\, United States
CATEGORIES:Monthly
ATTACH;FMTTYPE=image/jpeg:https://upliftedcare.org/wp-content/uploads/2024/05/iStock-944706874.jpg
ORGANIZER;CN="Uplifted Community Grief Center":MAILTO:info@upliftedgrief.org
END:VEVENT
BEGIN:VEVENT
DTSTART;TZID=America/Chicago:20290321T090000
DTEND;TZID=America/Chicago:20290321T110000
DTSTAMP:20260425T152720
CREATED:20240910T171125Z
LAST-MODIFIED:20240910T171929Z
UID:10004319-1868778000-1868785200@upliftedcare.org
SUMMARY:Vet to Vet Café
DESCRIPTION:All veterans are invited to the UpliftedCare Community Grief Center to attend the Vet-To-Vet Café from 9-11 a.m. on the 3rd Wednesday of every month. Veterans have the opportunity to meet other community veterans\, share stories\, access resources and make new connections. Coffee and light snacks are provided.
URL:https://upliftedcare.org/event/vet-to-vet-cafe-2/2029-03-21/
LOCATION:Uplifted Care Community Grief Center\, 3115 N. 1000 West Rd.\, Bourbonnais\, IL\, 60914\, United States
CATEGORIES:Monthly
ATTACH;FMTTYPE=image/jpeg:https://upliftedcare.org/wp-content/uploads/2024/05/iStock-944706874.jpg
ORGANIZER;CN="Uplifted Community Grief Center":MAILTO:info@upliftedgrief.org
END:VEVENT
BEGIN:VEVENT
DTSTART;TZID=America/Chicago:20290418T090000
DTEND;TZID=America/Chicago:20290418T110000
DTSTAMP:20260425T152720
CREATED:20240910T171125Z
LAST-MODIFIED:20240910T171929Z
UID:10004320-1871197200-1871204400@upliftedcare.org
SUMMARY:Vet to Vet Café
DESCRIPTION:All veterans are invited to the UpliftedCare Community Grief Center to attend the Vet-To-Vet Café from 9-11 a.m. on the 3rd Wednesday of every month. Veterans have the opportunity to meet other community veterans\, share stories\, access resources and make new connections. Coffee and light snacks are provided.
URL:https://upliftedcare.org/event/vet-to-vet-cafe-2/2029-04-18/
LOCATION:Uplifted Care Community Grief Center\, 3115 N. 1000 West Rd.\, Bourbonnais\, IL\, 60914\, United States
CATEGORIES:Monthly
ATTACH;FMTTYPE=image/jpeg:https://upliftedcare.org/wp-content/uploads/2024/05/iStock-944706874.jpg
ORGANIZER;CN="Uplifted Community Grief Center":MAILTO:info@upliftedgrief.org
END:VEVENT
BEGIN:VEVENT
DTSTART;TZID=America/Chicago:20290516T090000
DTEND;TZID=America/Chicago:20290516T110000
DTSTAMP:20260425T152720
CREATED:20240910T171125Z
LAST-MODIFIED:20240910T171929Z
UID:10004321-1873616400-1873623600@upliftedcare.org
SUMMARY:Vet to Vet Café
DESCRIPTION:All veterans are invited to the UpliftedCare Community Grief Center to attend the Vet-To-Vet Café from 9-11 a.m. on the 3rd Wednesday of every month. Veterans have the opportunity to meet other community veterans\, share stories\, access resources and make new connections. Coffee and light snacks are provided.
URL:https://upliftedcare.org/event/vet-to-vet-cafe-2/2029-05-16/
LOCATION:Uplifted Care Community Grief Center\, 3115 N. 1000 West Rd.\, Bourbonnais\, IL\, 60914\, United States
CATEGORIES:Monthly
ATTACH;FMTTYPE=image/jpeg:https://upliftedcare.org/wp-content/uploads/2024/05/iStock-944706874.jpg
ORGANIZER;CN="Uplifted Community Grief Center":MAILTO:info@upliftedgrief.org
END:VEVENT
BEGIN:VEVENT
DTSTART;TZID=America/Chicago:20290620T090000
DTEND;TZID=America/Chicago:20290620T110000
DTSTAMP:20260425T152720
CREATED:20240910T171125Z
LAST-MODIFIED:20240910T171929Z
UID:10004322-1876640400-1876647600@upliftedcare.org
SUMMARY:Vet to Vet Café
DESCRIPTION:All veterans are invited to the UpliftedCare Community Grief Center to attend the Vet-To-Vet Café from 9-11 a.m. on the 3rd Wednesday of every month. Veterans have the opportunity to meet other community veterans\, share stories\, access resources and make new connections. Coffee and light snacks are provided.
URL:https://upliftedcare.org/event/vet-to-vet-cafe-2/2029-06-20/
LOCATION:Uplifted Care Community Grief Center\, 3115 N. 1000 West Rd.\, Bourbonnais\, IL\, 60914\, United States
CATEGORIES:Monthly
ATTACH;FMTTYPE=image/jpeg:https://upliftedcare.org/wp-content/uploads/2024/05/iStock-944706874.jpg
ORGANIZER;CN="Uplifted Community Grief Center":MAILTO:info@upliftedgrief.org
END:VEVENT
BEGIN:VEVENT
DTSTART;TZID=America/Chicago:20290718T090000
DTEND;TZID=America/Chicago:20290718T110000
DTSTAMP:20260425T152720
CREATED:20240910T171125Z
LAST-MODIFIED:20240910T171929Z
UID:10004323-1879059600-1879066800@upliftedcare.org
SUMMARY:Vet to Vet Café
DESCRIPTION:All veterans are invited to the UpliftedCare Community Grief Center to attend the Vet-To-Vet Café from 9-11 a.m. on the 3rd Wednesday of every month. Veterans have the opportunity to meet other community veterans\, share stories\, access resources and make new connections. Coffee and light snacks are provided.
URL:https://upliftedcare.org/event/vet-to-vet-cafe-2/2029-07-18/
LOCATION:Uplifted Care Community Grief Center\, 3115 N. 1000 West Rd.\, Bourbonnais\, IL\, 60914\, United States
CATEGORIES:Monthly
ATTACH;FMTTYPE=image/jpeg:https://upliftedcare.org/wp-content/uploads/2024/05/iStock-944706874.jpg
ORGANIZER;CN="Uplifted Community Grief Center":MAILTO:info@upliftedgrief.org
END:VEVENT
BEGIN:VEVENT
DTSTART;TZID=America/Chicago:20290815T090000
DTEND;TZID=America/Chicago:20290815T110000
DTSTAMP:20260425T152720
CREATED:20240910T171125Z
LAST-MODIFIED:20240910T171929Z
UID:10004324-1881478800-1881486000@upliftedcare.org
SUMMARY:Vet to Vet Café
DESCRIPTION:All veterans are invited to the UpliftedCare Community Grief Center to attend the Vet-To-Vet Café from 9-11 a.m. on the 3rd Wednesday of every month. Veterans have the opportunity to meet other community veterans\, share stories\, access resources and make new connections. Coffee and light snacks are provided.
URL:https://upliftedcare.org/event/vet-to-vet-cafe-2/2029-08-15/
LOCATION:Uplifted Care Community Grief Center\, 3115 N. 1000 West Rd.\, Bourbonnais\, IL\, 60914\, United States
CATEGORIES:Monthly
ATTACH;FMTTYPE=image/jpeg:https://upliftedcare.org/wp-content/uploads/2024/05/iStock-944706874.jpg
ORGANIZER;CN="Uplifted Community Grief Center":MAILTO:info@upliftedgrief.org
END:VEVENT
END:VCALENDAR